BEGIN:VCALENDAR
VERSION:2.0
PRODID:-//ChamberMaster//Event Calendar 2.0//EN
METHOD:PUBLISH
X-PUBLISHED-TTL:P3D
REFRESH-INTERVAL:P3D
CALSCALE:GREGORIAN
BEGIN:VEVENT
DTSTART:20170519T220000Z
DTEND:20170520T000000Z
X-MICROSOFT-CDO-ALLDAYEVENT:FALSE
SUMMARY:Cupcake Wars!
DESCRIPTION:On Friday\, May 19\, from 6-8:00 PM at the Nasson Community Center in Springvale\, York County Community Action will present its 1st Annual Cupcake Wars Fundraiser/Competition among York County businesses. Come to sample and purchase treats\, and vote on the tastiest cupcake! Proceeds will directly benefit York County Community Action and the creation of its new Intergenerational Learning Center   a unique\, first-of-its-kind facility in Maine that will provide high-quality child care and adult day health services for seniors. For more information or to purchase tickets\, call (207) 459-2938 or visit www.yccacfundraiser.com.
X-ALT-DESC;FMTTYPE=text/html:On Friday\, May 19\, from 6-8:00 PM at the Nasson Community Center in Springvale\, York County Community Action will present its 1st Annual Cupcake Wars Fundraiser/Competition among York County businesses. Come to sample and purchase treats\, and vote on the tastiest cupcake! Proceeds will directly benefit York County Community Action and the creation of its new Intergenerational Learning Center &ndash\; a unique\, first-of-its-kind facility in Maine that will provide high-quality child care and adult day health services for seniors. For more information or to purchase tickets\, call (207) 459-2938 or visit www.yccacfundraiser.com.
LOCATION:Nasson Community Center Springvale\, ME
UID:e.882.1658
SEQUENCE:3
DTSTAMP:20260420T051856Z
URL:http://ogunquit.chambermaster.com/events/details/cupcake-wars-1658
END:VEVENT

END:VCALENDAR
